BEGIN:VCALENDAR
VERSION:2.0
PRODID:spatie/icalendar-generator
DESCRIPTION:Events from Flint Future Firebirds
X-WR-CALDESC:Events from Flint Future Firebirds
REFRESH-INTERVAL;VALUE=DURATION:PT1440M
X-PUBLISHED-TTL:PT1440M
BEGIN:VTIMEZONE
TZID:America/Detroit
BEGIN:STANDARD
DTSTART:20241103T020000Z
TZOFFSETFROM:-0400
TZOFFSETTO:-0500
END:STANDARD
BEGIN:DAYLIGHT
DTSTART:20250309T020000Z
TZOFFSETFROM:-0500
TZOFFSETTO:-0400
END:DAYLIGHT
BEGIN:STANDARD
DTSTART:20251102T020000Z
TZOFFSETFROM:-0400
TZOFFSETTO:-0500
END:STANDARD
END:VTIMEZONE
BEGIN:VTIMEZONE
TZID:UTC
BEGIN:STANDARD
DTSTART:20250724T115722Z
TZOFFSETFROM:+0000
TZOFFSETTO:+0000
END:STANDARD
END:VTIMEZONE
BEGIN:VEVENT
UID:161-52
DTSTAMP:20260420T115722Z
SUMMARY:2025 Spring Session
LOCATION:810 Sports Complex 1160 S. Elms Road  Flint MI 48532
ORGANIZER;CN=Mick Carroll:MAILTO:coachmick@flintfuturefirebirds.com
DTSTART;TZID=America/Detroit:20250518T100000
DTEND;TZID=America/Detroit:20250518T105000
X-ALT-DESC;FMTTYPE=TEXT/HTML:
CATEGORIES:On-Ice Session
URL;VALUE=URI:https://flintfuturefirebirds.com/mc-events/2025-spring-sessio
 n-4/?mc_id=161
END:VEVENT
END:VCALENDAR